BEGIN:VCALENDAR
VERSION:2.0
PRODID:-//ChamberMaster//Event Calendar 2.0//EN
METHOD:PUBLISH
X-PUBLISHED-TTL:P3D
REFRESH-INTERVAL:P3D
CALSCALE:GREGORIAN
BEGIN:VEVENT
DTSTART:20260619T230000Z
DTEND:20260620T020000Z
X-MICROSOFT-CDO-ALLDAYEVENT:FALSE
SUMMARY:Centennial Sips\, Snacks and Sounds sponsored by Hartford Community Service Inc
DESCRIPTION:Join us at Centennial Sips\, Snacks and Sounds\, sponsored by Hartford Community Service Inc! Come listen to the acoustic sounds of Patrick van Bibber\, taste the amazing food from Mr. P's Grilled Cheese\, and indulge a few great-tasting beers from Hartford's very own Brewed Omen! It is a wonderful summer to enjoy Centennial Sips\, Snacks\, and Sounds: where neighbors can come together in the heart of beautiful downtown Hartford - live music\, local beer\, food trucks\, kids playing - a place where community happens!
X-ALT-DESC;FMTTYPE=text/html:<span style="font-size:14px\;"><span style="color:#333333"><span style="font-family:arial\,sans-serif">Join us at Centennial Sips\, Snacks and Sounds\, sponsored by Hartford Community Service Inc! Come listen to the acoustic sounds of Patrick van Bibber\, taste the amazing food from Mr. P&rsquo\;s Grilled Cheese\, and indulge a few great-tasting beers from Hartford&#39\;s very own Brewed Omen!&nbsp\;It is a wonderful summer to enjoy Centennial Sips\, Snacks\, and Sounds: where neighbors can come together in the heart of beautiful downtown Hartford - live music\, local beer\, food trucks\, kids playing - a place where community happens!</span></span></span>
LOCATION:Centennial Park\, Hartford\, WI (Near the Mill Pond)
UID:e.898.8339
SEQUENCE:3
DTSTAMP:20260420T064909Z
URL:https://business.hartfordchamber.org/events/details/centennial-sips-snacks-and-sounds-sponsored-by-hartford-community-service-inc-06-19-2026-8339
END:VEVENT

END:VCALENDAR
